BEGIN:VCALENDAR
VERSION:2.0
PRODID:-//ExpressionEngine Easy iCalendar plugin//NONSGML v2.0.1//EN
X-WR-TIMEZONE:America/New_York
X-WR-CALNAME:Upcoming Auctions
BEGIN:VEVENT
UID:101754
DTSTAMP:20230529T122000
DTSTART:20230529T122000
DTEND:20230629T190000
SUMMARY:June Consignment Auction at Huffman Trailer Sales
LOCATION:4124 N. Valley Pike\, Harrisonburg\, VA 22802\, US
DESCRIPTION:We're having a June Consignment auction at Huffman Traile
 r Sales\, consign today!!! We're selling farm equipment\, cons
 truction equipment\, trucks\, trailers\, cars\, motorcycles\, ATV
 's\, UTV's\, tools\, mowers\, outdoor power equipment\, building 
 materials\, and much more!!! Drop off items June 12th through
  June 27th between 9AM-4:30PM. To get maximum exposure of yo
 ur items we can come to your place and take pictures of your
  items. Please call/text Josh (540-421-5007) to get your ite
 ms added ASAP. This auction will have ONLINE BIDDING ONLY e
 nding 6/29 with item pick-up on 6/30 and 7/1.
URL:https://www.alliedauctioneersva.com/auctions/detail/bw101754
SEQUENCE:1
END:VEVENT
END:VCALENDAR