BEGIN:VCALENDAR
VERSION:2.0
PRODID:-//ExpressionEngine Easy iCalendar plugin//NONSGML v2.0.1//EN
X-WR-TIMEZONE:America/New_York
X-WR-CALNAME:Upcoming Auctions
BEGIN:VEVENT
UID:103963
DTSTAMP:20230708T110000
DTSTART:20230708T110000
DTEND:20230729T000000
SUMMARY:Hickey Family Benefit
LOCATION:13 Government  Center Lane\, Verona\, VA 24482\, US
DESCRIPTION:This is a raffle to raise money for the Hickey family after 
 the unfortunate events that landed Matt in the hospital. Thi
 s is not an auction but a buy-it-now style raffle for a chan
 ce to win a half of a processed butcher pig\, Stable Craft gi
 ft card\, a custom towel rack by the ag students at BGHS\, or 
 a horseshoe rack made by the ag students at BGHS. If you'd l
 ike to donate but aren't interested in any of the items you 
 can donate to the family by clicking on any of the monetary 
 donation lots for the amount you wish to give (you can click
  on multiple if you'd like to donate more than the amount sh
 own).
URL:https://www.alliedauctioneersva.com/auctions/detail/bw103963
SEQUENCE:1
END:VEVENT
END:VCALENDAR