BEGIN:VCALENDAR
VERSION:2.0
PRODID:-//ExpressionEngine Easy iCalendar plugin//NONSGML v2.0.1//EN
X-WR-TIMEZONE:America/Indiana/Indianapolis
X-WR-CALNAME:Upcoming Auctions
BEGIN:VEVENT
UID:104754
DTSTAMP:20230725T200000
DTSTART:20230725T200000
DTEND:20230810T190000
SUMMARY:Trucks & Farm Equipment
LOCATION:67 Jennings Gap Road\, Churchville\, VA 24421\, US
DESCRIPTION:The Sheets family and a close friend are selling some nice f
 arm equipment and trucks. Items will include a GMC with a ba
 le bed\, two tractors\, a skid loader\, two litter spreading tr
 ucks\, a road tractor\, several trailers\, and much more. All i
 tems will be sold via online only auction ending on August 1
 0th at 7:00PM. The preview will be on Wednesday evening\, Au
 gust 9th\, from 4-7PM\, pick up items on Friday\, August 11th\, 
 from 3:00-7:00PM unless other arrangements are made prior to
  the auction. Payment will be required by Friday evening at 
 7:00.
URL:https://www.alliedauctioneersva.com/auctions/detail/bw104754
SEQUENCE:1
END:VEVENT
END:VCALENDAR