BEGIN:VCALENDAR
VERSION:2.0
PRODID:-//ExpressionEngine Easy iCalendar plugin//NONSGML v2.0.1//EN
X-WR-TIMEZONE:America/New_York
X-WR-CALNAME:Upcoming Auctions
BEGIN:VEVENT
UID:105105
DTSTAMP:20230818T110001
DTSTART:20230818T110001
DTEND:20230818T120001
SUMMARY:2023 Rockingham County 4H & FFA Market Animal Sale
LOCATION:{location}
DESCRIPTION:The Rockingham County 4-H & FFA Livestock Show & Sale takes 
 place each year during the Rockingham County Fair. From this
  site you can watch the live auction\, bid on the kid's anima
 ls\, and keep up with the sale all evening. You can register 
 to bid at any time but the sale order will not be posted unt
 il the week of the fair and won't be finalized until the day
  of the auction. FRIDAY\, AUGUST 18 th 2023 Sale Order: Steer
 s\, Goats\, Hogs\, Lambs and Dairy Steers 11:00 a.m. Announceme
 nts/Floor Bidding 11:30 a.m. *Estimated Steer Sale Start Tim
 e 12:45 p.m. *Estimated Goat Sale Start Time 3:00 p.m. *Esti
 mated Hog Sale Start Time 6:00 p.m. *Estimated Lamb Sale Sta
 rt Time 7:30 p.m. *Estimated Dairy Steer Sale Start Time * S
 ale times are estimated and may begin earlier or later than 
 indicated. Next sale will immediately follow the preceding s
 ale without delay.   This is a terminal sale and all animal
 s are intended for slaughter. If buyers take animals home it
  is at their own risk. Haul out of animals will occur one-ha
 lf hour following the end of the sale. All livestock must be
  moved from the Fairgrounds by 8:00 a.m.\, Saturday\, August 1
 9th . You must make your hauling\, slaughter\, and custom kill
  arrangements prior to the sale. Slaughter and Processing Fa
 cilities Since COVID-19 there has been a high demand for loc
 al processed meat\, and many of our local processors are book
 ed a year in advance. You may have to consider Flooring more
  animals than normal or taking the animals home with you and
  feeding them out to finish for slaughter at a later time. D
 ue to this high demand of local processed market animals thi
 s year\, you MUST make an appointment with a Slaughter/Proces
 sing facility or have your own arrangements made BEFORE THE 
 FAIR/SALE. If you need assistance in finding a Slaughter/Pro
 cessing facility\, please call the Rockingham Extension Offic
 e at 540-564- 3080 and ask for Sam Leech. Visit our website 
 for up-to-date information! RockinghamMas.org
URL:https://www.alliedauctioneersva.com/auctions/detail/bw105105
SEQUENCE:1
END:VEVENT
END:VCALENDAR