BEGIN:VCALENDAR
VERSION:2.0
PRODID:-//ExpressionEngine Easy iCalendar plugin//NONSGML v2.0.1//EN
X-WR-TIMEZONE:America/New_York
X-WR-CALNAME:Upcoming Auctions
BEGIN:VEVENT
UID:105111
DTSTAMP:20230805T220000
DTSTART:20230805T220000
DTEND:20230824T190000
SUMMARY:Steve Biller & Julie
LOCATION:3856 Nutmeg Court\, Harrisonburg\, VA 22801\, US
DESCRIPTION:We're conducting an online auction to settle the estate of 
 Steve Biller and Judy Hoover. Items include 2005 Ford F150 (
 89k miles)\, 2021 Subaru\, 30+ guns\, ammo\, generator\, like ne
 w snow blower\, Bad Boy zero turn mower\, high quality furnitu
 re\, and more. The preview will be on Wednesday\, August 23rd 
 from 3-7PM\, the auction closes on Thursday\, August 24th at 7
 :00PM\, pick up items on Friday\, August 25th from 2-7PM and S
 aturday\, August 26th from 9-Noon.
URL:https://www.alliedauctioneersva.com/auctions/detail/bw105111
SEQUENCE:1
END:VEVENT
END:VCALENDAR