BEGIN:VCALENDAR
VERSION:2.0
PRODID:-//ExpressionEngine Easy iCalendar plugin//NONSGML v2.0.1//EN
X-WR-TIMEZONE:America/New_York
X-WR-CALNAME:Upcoming Auctions
BEGIN:VEVENT
UID:105114
DTSTAMP:20230821T080000
DTSTART:20230821T080000
DTEND:20230921T190000
SUMMARY:September Consignment Auction at Huffman Trailer Sales
LOCATION:4124 N. Valley Pike\, Harrisonburg\, VA 22802\, US
DESCRIPTION:We're having a September Consignment auction at Huffman Tr
 ailer Sales\, consign today!!! We're selling farm equipment\, 
 construction equipment\, trucks\, trailers\, cars\, motorcycles\,
  ATV's\, UTV's\, tools\, mowers\, outdoor power equipment\, build
 ing materials\, and much more!!! Drop off items any weekday 
 between 8:30AM-4:30PM\, Saturday\, September 9th & 16th from 8
 :30 until 1:00. The cutoff date to drop items off is at 4:00
  on Tuesday\, September 19th. To get maximum exposure of your
  items we can come to your place and take pictures of your i
 tems. Please call/text Josh (540-421-5007) to get your items
  added ASAP. This auction will have ONLINE BIDDING ONLY end
 ing on Thursday\, September 21st at 7PM with item pick-up on 
 Friday\, September 22nd from 8AM-6PM and Saturday\, September
  23rd from 8AM-Noon.
URL:https://www.alliedauctioneersva.com/auctions/detail/bw105114
SEQUENCE:1
END:VEVENT
END:VCALENDAR