BEGIN:VCALENDAR
VERSION:2.0
PRODID:-//ExpressionEngine Easy iCalendar plugin//NONSGML v2.0.1//EN
X-WR-TIMEZONE:America/New_York
X-WR-CALNAME:Upcoming Auctions
BEGIN:VEVENT
UID:105999
DTSTAMP:20230814T081500
DTSTART:20230814T081500
DTEND:20230818T160000
SUMMARY:Rockingham County Fair Barn Fundraiser
LOCATION:{location}
DESCRIPTION:We're selling three stock trailers and a Stock Box with all 
 of the profit going to support the Rockingham County Fair's 
 new barn. Thank you to Huffman Trailer Sales\, FeatherLite T
 railers\, and Allied Auctioneers for their contributions to m
 ake this happen. All items have a starting bid\, any bid over
  that amount will be donated to the fair's barn fundraiser. 
 If you are the winning bidder someone from Huffman Trailer S
 ales will contact you regarding payment and picking up your 
 item. Thank you for your support
URL:https://www.alliedauctioneersva.com/auctions/detail/bw105999
SEQUENCE:1
END:VEVENT
END:VCALENDAR