BEGIN:VCALENDAR
VERSION:2.0
PRODID:-//ExpressionEngine Easy iCalendar plugin//NONSGML v2.0.1//EN
X-WR-TIMEZONE:America/New_York
X-WR-CALNAME:Upcoming Auctions
BEGIN:VEVENT
UID:108262
DTSTAMP:20231006T173000
DTSTART:20231006T173000
DTEND:20231006T183000
SUMMARY:Ride with Pride Benefit Gala
LOCATION:{location}
DESCRIPTION:Our most popular fundraiser!  Get your tickets soon to rese
 rve your seats! Join us on October 7 as we celebrate the Rid
 e With Pride program\, take the opportunity to thank all thos
 e who make this amazing program possible\, and raise money to
  support our horses and students! This year\, we will celebra
 te with a 1920s themed gala. Dress up if you like\, take pict
 ures in our photo booth area with provided props as well as 
 enjoy drinks\, a delicious dinner\, music and dancing.  Have 
 fun with participating in our silent and live auctions while
  you support a wonderful cause ! Tickets are available for $
 95 per person\, or bring a group of friends and reserve a tab
 le for eight for $700! 
URL:https://www.alliedauctioneersva.com/auctions/detail/bw108262
SEQUENCE:1
END:VEVENT
END:VCALENDAR