BEGIN:VCALENDAR
VERSION:2.0
PRODID:-//ExpressionEngine Easy iCalendar plugin//NONSGML v2.0.1//EN
X-WR-TIMEZONE:America/New_York
X-WR-CALNAME:Upcoming Auctions
BEGIN:VEVENT
UID:108469
DTSTAMP:20230925T120000
DTSTART:20230925T120000
DTEND:20231019T190000
SUMMARY:Shenandoah Valley Fall Consignment Auction
LOCATION:{location}
DESCRIPTION:Fall Consignment Auction featuring agricultural\, heavy equip
 ment\, construction equipment and tools\, vehicles\, trucks\, tr
 ailers\, and powersports. This auction is being held at 10298
  McGaheysville Rd\, McGaheysville VA 22840. Call\, text\, or me
 ssage us if you have vehicles\, equipment\, farm machinery or 
 tools to sell. Consignment deadline is Oct 18 at 5:00 PM o
 r when we run out of room\, whichever comes first. Item Drop
  Off Dates Are October 6-18 excluding Sundays from 9 AM to
  5 PM.
URL:https://www.alliedauctioneersva.com/auctions/detail/bw108469
SEQUENCE:1
END:VEVENT
END:VCALENDAR