BEGIN:VCALENDAR
VERSION:2.0
PRODID:-//ExpressionEngine Easy iCalendar plugin//NONSGML v2.0.1//EN
X-WR-TIMEZONE:America/New_York
X-WR-CALNAME:Upcoming Auctions
BEGIN:VEVENT
UID:113811
DTSTAMP:20240112T120000
DTSTART:20240112T120000
DTEND:20240201T190000
SUMMARY:Trucks\, Trailer\, and Telehandler
LOCATION:1740 Erikson Ave.\, Harrisonburg\, VA 22801\, US
DESCRIPTION:The owners of Don Largent roofing are selling three dump tru
 cks\, an equipment trailer\, and a telehandler at an online au
 ction. All items will be sold to the highest bidder no reser
 ve. The auction will start closing on February 1st at 7:00P
 M. Preview the items on Wednesday\, January 31st from 4-6PM\,
  Thursday\, February 1st from 4-6PM\, and other times by appoi
 ntment. 
URL:https://www.alliedauctioneersva.com/auctions/detail/bw113811
SEQUENCE:1
END:VEVENT
END:VCALENDAR