BEGIN:VCALENDAR
VERSION:2.0
PRODID:-//ExpressionEngine Easy iCalendar plugin//NONSGML v2.0.1//EN
X-WR-TIMEZONE:America/New_York
X-WR-CALNAME:Upcoming Auctions
BEGIN:VEVENT
UID:120953
DTSTAMP:20240518T180000
DTSTART:20240518T180000
DTEND:20240711T190000
SUMMARY:July Consignment Auction at Huffman Trailer Sales
LOCATION:4124 N. Valley Pike\, Harrisonburg\, VA 22802\, US
DESCRIPTION:We're having a July Consignment auction at Huffman Traile
 r Sales\, consign today!!! We're selling farm equipment\, cons
 truction equipment\, trucks\, trailers\, cars\, motorcycles\, ATV
 's\, UTV's\, tools\, mowers\, outdoor power equipment\, building 
 materials\, and much more!!! Drop off items any weekday betw
 een 8:30AM-4:30PM starting on June 17th through July 9th (ex
 cept for July 4th). Saturday drop off dates are June 29th an
 d July 6th from 8:30 until 1:00. The cutoff date to drop it
 ems off is at 4:00 on Tuesday\, July 9th. Please call/text J
 osh (540-421-5007) to get your items added ASAP. This aucti
 on will have ONLINE BIDDING ONLY ending on Thursday\, July 11
 th at 7PM with item pick-up on Friday\, July 12th from 9AM
 -6PM and Saturday\, July 13th from 9AM-Noon. Preview items 
 on Wednesday and Thursday\, July 10th and 11th from 9-5.
URL:https://www.alliedauctioneersva.com/auctions/detail/bw120953
SEQUENCE:1
END:VEVENT
END:VCALENDAR