BEGIN:VCALENDAR
VERSION:2.0
PRODID:-//ExpressionEngine Easy iCalendar plugin//NONSGML v2.0.1//EN
X-WR-TIMEZONE:America/New_York
X-WR-CALNAME:Upcoming Auctions
BEGIN:VEVENT
UID:123706
DTSTAMP:20240709T190000
DTSTART:20240709T190000
DTEND:20240808T190000
SUMMARY:Construction & Farm Equipment Auction
LOCATION:39880 New Road\, Aldie\, VA 20105\, US
DESCRIPTION:Due to changing his daily operations\, our seller has commiss
 ioned us to sell his track hoe\, trucks\, roll-off containers\,
  farm equipment\, feeders\, metal building\, and more. This is 
 an online only auction ending Thursday\, August 8th with item
  pick-up on Saturday\, August 10th. Preview times will be Wed
 nesday\, July 31st  and Wednesday\, August 7th from 3-6PM. Au
 ction location: 39880 New Road\, Aldie\, VA 20105 Auction Time
 : The online bidding will start to close at 7:00PM on Thursd
 ay\, August 8th at a rate of 3 items per minute. If any item
  receives a bid in the last 60 seconds the bidding countdown
  clock will reset to 60 seconds. Preview: Wednesday\, July 3
 1st and Wednesday\, August 7th from 3-6PM Pickup: Saturday\,
  August 10th from 9:00AM-3:00PM unless other arrangements 
 have been made prior to the auction.
URL:https://www.alliedauctioneersva.com/auctions/detail/bw123706
SEQUENCE:1
END:VEVENT
END:VCALENDAR