BEGIN:VCALENDAR
VERSION:2.0
PRODID:-//ExpressionEngine Easy iCalendar plugin//NONSGML v2.0.1//EN
X-WR-TIMEZONE:America/New_York
X-WR-CALNAME:Upcoming Auctions
BEGIN:VEVENT
UID:124607
DTSTAMP:20240807T210000
DTSTART:20240807T210000
DTEND:20240926T190000
SUMMARY:September Consignment Auction at Huffman Trailer Sales
LOCATION:4124 N. Valley Pike\, Harrisonburg\, VA 22802\, US
DESCRIPTION:We're having a September Consignment auction at Huffman Tr
 ailer Sales\, consign today!!! We're selling farm equipment\, 
 construction equipment\, trucks\, trailers\, cars\, motorcycles\,
  ATV's\, UTV's\, tools\, mowers\, outdoor power equipment\, build
 ing materials\, and much more!!! Drop off items any weekday 
 between 8:30AM-4:30PM starting on August 26th through Septem
 ber 23rd (Labor Day by appointment). Saturday drop off dates
  are September 14th and September 21st from 8:30 until 1:00
 . The cutoff date to drop items off is at 4:00 on Monday\, Se
 ptember 23rd. Please call/text Josh (540-421-5007) to get yo
 ur items added ASAP. This auction will have ONLINE BIDDING 
 ONLY ending on Thursday\, September 26th at 7PM with item pic
 k-up on Friday\, Sept. 27th from 9AM-6PM and Saturday\, Sept.
  28th from 9AM-Noon. Preview items on Wednesday and Thursda
 y\, September 25th and 26th from 9-5.
URL:https://www.alliedauctioneersva.com/auctions/detail/bw124607
SEQUENCE:1
END:VEVENT
END:VCALENDAR