BEGIN:VCALENDAR
VERSION:2.0
PRODID:-//ExpressionEngine Easy iCalendar plugin//NONSGML v2.0.1//EN
X-WR-TIMEZONE:America/New_York
X-WR-CALNAME:Upcoming Auctions
BEGIN:VEVENT
UID:126152
DTSTAMP:20240820T120000
DTSTART:20240820T120000
DTEND:20240903T190000
SUMMARY:Trucks and Telehandler
LOCATION:1740 Erikson Ave.\, Harrisonburg\, VA 22801\, US
DESCRIPTION:Skyline Roofing has acquired Don Largent Roofing and is liqu
 idating duplicate inventory including a road tractor\, roll b
 ack\, a telehandler\, two pickup trucks\, and two metal brakes.
  This will be an online only auction ending on Tuesday\, Sept
 ember 3rd at 7:00PM. Preview will be on Tuesday\,Â September 
 3rd from 3-5 or other times by appointment. Pick up will beÂ
  by appointment\, within one week of the conclusion of the bi
 dding.Â 
URL:https://www.alliedauctioneersva.com/auctions/detail/bw126152
SEQUENCE:1
END:VEVENT
END:VCALENDAR