BEGIN:VCALENDAR
VERSION:2.0
PRODID:-//ExpressionEngine Easy iCalendar plugin//NONSGML v2.0.0//EN
X-WR-TIMEZONE:America/New_York
X-WR-CALNAME:Upcoming Auctions
BEGIN:VEVENT
UID:152936
DTSTAMP:20251129T080000
DTSTART:20251129T080000
DTEND:20260531T190000
SUMMARY:We Sell Real Estate
LOCATION:123 Your Street\, Your Town\, VA 22843\, US
DESCRIPTION:Did you know that we sell real estate? We have helped homeow
 ners\, landowners\, executors\, and families sell real estate m
 any times with huge success. Click here to see some of the b
 enefits of selling with us.
URL:https://www.alliedauctioneersva.com/auctions/detail/bw152936
SEQUENCE:1
END:VEVENT
END:VCALENDAR