BEGIN:VCALENDAR
VERSION:2.0
PRODID:-//ExpressionEngine Easy iCalendar plugin//NONSGML v2.0.0//EN
X-WR-TIMEZONE:America/New_York
X-WR-CALNAME:Upcoming Auctions
BEGIN:VEVENT
UID:154819
DTSTAMP:20260117T180000
DTSTART:20260117T180000
DTEND:20260117T190000
SUMMARY:Rockingham Co. Fair Naming Rights Gala
LOCATION:4808 S. Valley Pike\, Harrisonburg\, VA 22801\, US
DESCRIPTION:2026 Naming Rights Gala Date - Saturday\, Jan. 17\, 2026 Doors
  Open at 6:00 p.m. Music by - Big City Band Menu - Beef Meda
 llions\, Tuscan Chicken\, Mashed Potatoes\, Green Beans\, Sweet 
 Potatoes\, Baked Apples\, Chocolate Mousse Cups\, and Lemon Bar
 s
URL:https://www.alliedauctioneersva.com/auctions/detail/bw154819
SEQUENCE:1
END:VEVENT
END:VCALENDAR