BEGIN:VCALENDAR
VERSION:2.0
PRODID:-//ExpressionEngine Easy iCalendar plugin//NONSGML v2.0.0//EN
X-WR-TIMEZONE:America/New_York
X-WR-CALNAME:Upcoming Auctions
BEGIN:VEVENT
UID:160729
DTSTAMP:20260502T100000
DTSTART:20260502T100000
DTEND:20260502T110000
SUMMARY:80th Augusta Co. Market Animal Sale
LOCATION:277 Expo Road\, Fishersville\, VA 22939\, US
DESCRIPTION:We are honored again this year to help the kids in Augusta C
 ounty that make up the future of agriculture in our area. Th
 ese kids have raised and cared for their market animal proje
 cts in preparation for the Augusta County market animal show
  and sale. The show will take place at Augusta Expo on Thurs
 day\, April 30th\, and Friday\, May 1st\, with the auction sale 
 on Saturday\, May 2nd.
URL:https://www.alliedauctioneersva.com/auctions/detail/bw160729
SEQUENCE:1
END:VEVENT
END:VCALENDAR