BEGIN:VCALENDAR
VERSION:2.0
PRODID:-//ExpressionEngine Easy iCalendar plugin//NONSGML v2.0.0//EN
X-WR-TIMEZONE:America/Indiana/Indianapolis
X-WR-CALNAME:Upcoming Auctions
BEGIN:VEVENT
UID:160730
DTSTAMP:20260430T190000
DTSTART:20260430T190000
DTEND:20260430T200000
SUMMARY:Chris Long Waterboys Fundraiser
LOCATION:200 Ednam Drive\, Charlottesville\, VA 22903\, US
DESCRIPTION:Fundraiser auction for the Chris Long Foundation raising mon
 ey for fresh water for those in need.
URL:https://www.alliedauctioneersva.com/auctions/detail/bw160730
SEQUENCE:1
END:VEVENT
END:VCALENDAR