BEGIN:VCALENDAR
VERSION:2.0
PRODID:-//ExpressionEngine Easy iCalendar plugin//NONSGML v2.0.1//EN
X-WR-TIMEZONE:America/New_York
X-WR-CALNAME:Upcoming Auctions
BEGIN:VEVENT
UID:99379
DTSTAMP:20230415T110000
DTSTART:20230415T110000
DTEND:20230415T120000
SUMMARY:Champions Choice Pig Sale
LOCATION:4808 S Valley Pike\, Harrisonburg\, VA 22801\, US
DESCRIPTION:Our Champion’s Choice Show Pig Sale will be held on April 
 15th at 11:00 am at the Rockingham County Fairgrounds. We pl
 an to have approximately 40 pigs in the sale. Sale will be l
 ive auction with cash or check only. We hope to see you ther
 e!
URL:https://www.alliedauctioneersva.com/auctions/detail/bw99379
SEQUENCE:1
END:VEVENT
END:VCALENDAR