BEGIN:VCALENDAR
VERSION:2.0
PRODID:-//ExpressionEngine Easy iCalendar plugin//NONSGML v2.0.1//EN
X-WR-TIMEZONE:America/New_York
X-WR-CALNAME:Upcoming Auctions
BEGIN:VEVENT
UID:99812
DTSTAMP:20230506T091551
DTSTART:20230506T091551
DTEND:20230506T101551
SUMMARY:2023 Augusta County 4H & FFA Market Animal Sale
LOCATION:{location}
DESCRIPTION:This auction is to sell the market animal projects for the A
 ugusta County 4H & FFA members. 
URL:https://www.alliedauctioneersva.com/auctions/detail/bw99812
SEQUENCE:1
END:VEVENT
END:VCALENDAR